BEGIN:VCALENDAR
VERSION:2.0
PRODID:-//IIS O. Belluzzi – Fioravanti - ECPv4.9.4//NONSGML v1.0//EN
CALSCALE:GREGORIAN
METHOD:PUBLISH
X-WR-CALNAME:IIS O. Belluzzi – Fioravanti
X-ORIGINAL-URL:https://www.belluzzifioravanti.it
X-WR-CALDESC:Eventi per IIS O. Belluzzi – Fioravanti
BEGIN:VTIMEZONE
TZID:"Europe/Rome"
BEGIN:DAYLIGHT
TZOFFSETFROM:+0100
TZOFFSETTO:+0200
TZNAME:CEST
DTSTART:20230326T010000
END:DAYLIGHT
BEGIN:STANDARD
TZOFFSETFROM:+0200
TZOFFSETTO:+0100
TZNAME:CET
DTSTART:20231029T010000
END:STANDARD
END:VTIMEZONE
BEGIN:VEVENT
DTSTART;TZID="Europe/Rome":20231128T080000
DTEND;TZID="Europe/Rome":20231128T140000
DTSTAMP:20260424T230445
CREATED:20231111T095934Z
LAST-MODIFIED:20231111T095934Z
UID:14983-1701158400-1701180000@www.belluzzifioravanti.it
SUMMARY:Museo del Patrimonio Industriale
DESCRIPTION:La classe 3AFE si reca presso il Museo del Patrimonio Industriale di Bologna\, via della Beverara 123.\nDocenti accompagnatori: proff. Scamperti  Costantino e De Gregorio Jenny\n
URL:https://www.belluzzifioravanti.it/event/museo-del-patrimonio-industriale-24/
END:VEVENT
END:VCALENDAR