BEGIN:VCALENDAR
VERSION:2.0
PRODID:-//IIS O. Belluzzi – Fioravanti - ECPv4.9.4//NONSGML v1.0//EN
CALSCALE:GREGORIAN
METHOD:PUBLISH
X-WR-CALNAME:IIS O. Belluzzi – Fioravanti
X-ORIGINAL-URL:https://www.belluzzifioravanti.it
X-WR-CALDESC:Eventi per IIS O. Belluzzi – Fioravanti
BEGIN:VTIMEZONE
TZID:"Europe/Rome"
BEGIN:DAYLIGHT
TZOFFSETFROM:+0100
TZOFFSETTO:+0200
TZNAME:CEST
DTSTART:20230326T010000
END:DAYLIGHT
BEGIN:STANDARD
TZOFFSETFROM:+0200
TZOFFSETTO:+0100
TZNAME:CET
DTSTART:20231029T010000
END:STANDARD
END:VTIMEZONE
BEGIN:VEVENT
DTSTART;TZID="Europe/Rome":20231120T090000
DTEND;TZID="Europe/Rome":20231120T130000
DTSTAMP:20260425T004143
CREATED:20231110T093901Z
LAST-MODIFIED:20231110T093925Z
UID:14968-1700470800-1700485200@www.belluzzifioravanti.it
SUMMARY:Big Data & Climate Change
DESCRIPTION:La classe 1Bsi reca presso gli spazi di Big BO (Via della Ferriera\, 4\, 40133 Bologna BO) per\npartecipare al primo modulo dello School Program “Big Data and Climate Change” \nDocenti accompagnatori: Prof.sse Caterina Finelli\,  Laura Lombardi\, Laura Zanghì \n
URL:https://www.belluzzifioravanti.it/event/big-data-climate-change/
END:VEVENT
END:VCALENDAR