BEGIN:VCALENDAR
VERSION:2.0
PRODID:-//IIS O. Belluzzi – Fioravanti - ECPv4.9.4//NONSGML v1.0//EN
CALSCALE:GREGORIAN
METHOD:PUBLISH
X-WR-CALNAME:IIS O. Belluzzi – Fioravanti
X-ORIGINAL-URL:https://www.belluzzifioravanti.it
X-WR-CALDESC:Eventi per IIS O. Belluzzi – Fioravanti
BEGIN:VTIMEZONE
TZID:"Europe/Rome"
BEGIN:DAYLIGHT
TZOFFSETFROM:+0100
TZOFFSETTO:+0200
TZNAME:CEST
DTSTART:20230326T010000
END:DAYLIGHT
BEGIN:STANDARD
TZOFFSETFROM:+0200
TZOFFSETTO:+0100
TZNAME:CET
DTSTART:20231029T010000
END:STANDARD
END:VTIMEZONE
BEGIN:VEVENT
DTSTART;TZID="Europe/Rome":20231116T080000
DTEND;TZID="Europe/Rome":20231116T140000
DTSTAMP:20260425T010002
CREATED:20231107T092534Z
LAST-MODIFIED:20231107T092534Z
UID:14959-1700121600-1700143200@www.belluzzifioravanti.it
SUMMARY:Museo Civico Medievale
DESCRIPTION:\nLa classe 3LOG si reca al Museo Civico Medievale\nDocenti accompagnatori: prof.sse Di Matteo\, Caserini\n\n
URL:https://www.belluzzifioravanti.it/event/museo-civico-medievale-7/
END:VEVENT
BEGIN:VEVENT
DTSTART;TZID="Europe/Rome":20231116T080000
DTEND;TZID="Europe/Rome":20231116T140000
DTSTAMP:20260425T010002
CREATED:20231107T093118Z
LAST-MODIFIED:20231111T100035Z
UID:14961-1700121600-1700143200@www.belluzzifioravanti.it
SUMMARY:Oppenheimer
DESCRIPTION:Le classi 5BM\, 5Bi\, 5Cm si recano all’ UCI cinema Casalecchio per visione film “Oppenheimer”. \nRitrovo in loco\, rientro autonomo. \nDocenti accompagnatori: Prof. Marchetti\, Zuffi\, Braidi\, Valzania\, Trozzo \n
URL:https://www.belluzzifioravanti.it/event/oppenheimer/
END:VEVENT
END:VCALENDAR