BEGIN:VCALENDAR
VERSION:2.0
PRODID:-//IIS O. Belluzzi – Fioravanti - ECPv4.9.4//NONSGML v1.0//EN
CALSCALE:GREGORIAN
METHOD:PUBLISH
X-WR-CALNAME:IIS O. Belluzzi – Fioravanti
X-ORIGINAL-URL:https://www.belluzzifioravanti.it
X-WR-CALDESC:Eventi per IIS O. Belluzzi – Fioravanti
BEGIN:VTIMEZONE
TZID:"Europe/Rome"
BEGIN:DAYLIGHT
TZOFFSETFROM:+0100
TZOFFSETTO:+0200
TZNAME:CEST
DTSTART:20230326T010000
END:DAYLIGHT
BEGIN:STANDARD
TZOFFSETFROM:+0200
TZOFFSETTO:+0100
TZNAME:CET
DTSTART:20231029T010000
END:STANDARD
END:VTIMEZONE
BEGIN:VEVENT
DTSTART;TZID="Europe/Rome":20231115T080000
DTEND;TZID="Europe/Rome":20231115T140000
DTSTAMP:20260425T010531
CREATED:20231030T101808Z
LAST-MODIFIED:20231030T105340Z
UID:14952-1700035200-1700056800@www.belluzzifioravanti.it
SUMMARY:Museo del patrimonio industriale
DESCRIPTION:La classe 3Am si reca al Museo del Patrimonio Industriale per una visita guidata sul tema della Rivoluzione Industriale e sulla Fabbrica del futuro. \nDocenti accompagnatori: Prof.sse Collia\, Lombardi Vallauri \n
URL:https://www.belluzzifioravanti.it/event/museo-del-patrimonio-industriale-23/
END:VEVENT
END:VCALENDAR