BEGIN:VCALENDAR
VERSION:2.0
PRODID:-//IIS O. Belluzzi – Fioravanti - ECPv4.9.4//NONSGML v1.0//EN
CALSCALE:GREGORIAN
METHOD:PUBLISH
X-WR-CALNAME:IIS O. Belluzzi – Fioravanti
X-ORIGINAL-URL:https://www.belluzzifioravanti.it
X-WR-CALDESC:Eventi per IIS O. Belluzzi – Fioravanti
BEGIN:VTIMEZONE
TZID:"Europe/Rome"
BEGIN:DAYLIGHT
TZOFFSETFROM:+0100
TZOFFSETTO:+0200
TZNAME:CEST
DTSTART:20230326T010000
END:DAYLIGHT
BEGIN:STANDARD
TZOFFSETFROM:+0200
TZOFFSETTO:+0100
TZNAME:CET
DTSTART:20231029T010000
END:STANDARD
END:VTIMEZONE
BEGIN:VEVENT
DTSTART;TZID="Europe/Rome":20231107T080000
DTEND;TZID="Europe/Rome":20231107T140000
DTSTAMP:20260425T011745
CREATED:20231023T094011Z
LAST-MODIFIED:20231030T142724Z
UID:14900-1699344000-1699365600@www.belluzzifioravanti.it
SUMMARY:Io\, Capitano
DESCRIPTION:Le classi 5Ac\, 5Ai\, 3Ci\, 4Bio si recano presso il Cinema Bellinzona\, via Bellinzona 6\, Bologna\,\nper partecipare alla proiezione del film “Io capitano” di Matteo Garrone.\n\nAccompagnatrice: prof.ssa Patrizia Martucci\, Corvino\, Piasentin\, La Micela\, Piasentin\, Tavoliere\, Trovato\n
URL:https://www.belluzzifioravanti.it/event/io-capitano-5/
END:VEVENT
BEGIN:VEVENT
DTSTART;TZID="Europe/Rome":20231107T080000
DTEND;TZID="Europe/Rome":20231107T140000
DTSTAMP:20260425T011745
CREATED:20231103T111828Z
LAST-MODIFIED:20231103T111939Z
UID:14956-1699344000-1699365600@www.belluzzifioravanti.it
SUMMARY:Meridiana di San Petronio
DESCRIPTION:La classe 1Bfm si reca presso la Basilica di San Petronio a Bologna\nper Attività didattica e visita guidata alla Meridiana\nDOCENTI ACCOMPAGNATORI: Prof. Aiello e Passarelli\n
URL:https://www.belluzzifioravanti.it/event/meridiana-di-san-petronio/
END:VEVENT
END:VCALENDAR