BEGIN:VCALENDAR
VERSION:2.0
PRODID:-//IIS O. Belluzzi – Fioravanti - ECPv4.9.4//NONSGML v1.0//EN
CALSCALE:GREGORIAN
METHOD:PUBLISH
X-WR-CALNAME:IIS O. Belluzzi – Fioravanti
X-ORIGINAL-URL:https://www.belluzzifioravanti.it
X-WR-CALDESC:Eventi per IIS O. Belluzzi – Fioravanti
BEGIN:VTIMEZONE
TZID:"Europe/Rome"
BEGIN:DAYLIGHT
TZOFFSETFROM:+0100
TZOFFSETTO:+0200
TZNAME:CEST
DTSTART:20230326T010000
END:DAYLIGHT
BEGIN:STANDARD
TZOFFSETFROM:+0200
TZOFFSETTO:+0100
TZNAME:CET
DTSTART:20231029T010000
END:STANDARD
END:VTIMEZONE
BEGIN:VEVENT
DTSTART;TZID="Europe/Rome":20230527T090000
DTEND;TZID="Europe/Rome":20230527T133000
DTSTAMP:20260425T114734
CREATED:20230522T084005Z
LAST-MODIFIED:20230522T084005Z
UID:14338-1685178000-1685194200@www.belluzzifioravanti.it
SUMMARY:School Maker Day
DESCRIPTION:Le CLASSI 4Aau\, 5Bi si recano all’Opificio Golinelli per  visitare le esposizioni dei maker allo School Maker Day \nDOCENTI ACCOMPAGNATORI: Prof. Pivello Elisa\, Pizzuti Francesco\, Mattia Falcone\, Alessandro di Stanislao \n\n
URL:https://www.belluzzifioravanti.it/event/school-maker-day-5/
END:VEVENT
END:VCALENDAR