BEGIN:VCALENDAR
VERSION:2.0
PRODID:-//IIS O. Belluzzi – Fioravanti - ECPv4.9.4//NONSGML v1.0//EN
CALSCALE:GREGORIAN
METHOD:PUBLISH
X-WR-CALNAME:IIS O. Belluzzi – Fioravanti
X-ORIGINAL-URL:https://www.belluzzifioravanti.it
X-WR-CALDESC:Eventi per IIS O. Belluzzi – Fioravanti
BEGIN:VTIMEZONE
TZID:"Europe/Rome"
BEGIN:DAYLIGHT
TZOFFSETFROM:+0100
TZOFFSETTO:+0200
TZNAME:CEST
DTSTART:20230326T010000
END:DAYLIGHT
BEGIN:STANDARD
TZOFFSETFROM:+0200
TZOFFSETTO:+0100
TZNAME:CET
DTSTART:20231029T010000
END:STANDARD
END:VTIMEZONE
BEGIN:VEVENT
DTSTART;TZID="Europe/Rome":20230516T140000
DTEND;TZID="Europe/Rome":20230516T180000
DTSTAMP:20260425T114605
CREATED:20230505T102859Z
LAST-MODIFIED:20230505T102859Z
UID:14132-1684245600-1684260000@www.belluzzifioravanti.it
SUMMARY:Museo della Comunicazione e del Multimediale G. Pelagalli "Mille voci... mille suoni"
DESCRIPTION:La classe 2Afe si reca presso il Museo Pelagalli per visitare un’esposizione unica nel suo genere: si compone di oltre 2000 pezzi originali e funzionanti che raccontano le origini e l’evoluzione degli strumenti della moderna comunicazione.\nDocenti accompagnatori: prof.ssa Maione\, Prof.ssa Buglione \n
URL:https://www.belluzzifioravanti.it/event/museo-della-comunicazione-e-del-multimediale-g-pelagalli-mille-voci-mille-suoni/
END:VEVENT
END:VCALENDAR