BEGIN:VCALENDAR
VERSION:2.0
PRODID:-//IIS O. Belluzzi – Fioravanti - ECPv4.9.4//NONSGML v1.0//EN
CALSCALE:GREGORIAN
METHOD:PUBLISH
X-WR-CALNAME:IIS O. Belluzzi – Fioravanti
X-ORIGINAL-URL:https://www.belluzzifioravanti.it
X-WR-CALDESC:Eventi per IIS O. Belluzzi – Fioravanti
BEGIN:VTIMEZONE
TZID:"Europe/Rome"
BEGIN:DAYLIGHT
TZOFFSETFROM:+0100
TZOFFSETTO:+0200
TZNAME:CEST
DTSTART:20230326T010000
END:DAYLIGHT
BEGIN:STANDARD
TZOFFSETFROM:+0200
TZOFFSETTO:+0100
TZNAME:CET
DTSTART:20231029T010000
END:STANDARD
END:VTIMEZONE
BEGIN:VEVENT
DTSTART;TZID="Europe/Rome":20230512T080000
DTEND;TZID="Europe/Rome":20230512T180000
DTSTAMP:20260425T114746
CREATED:20230505T102508Z
LAST-MODIFIED:20230505T102508Z
UID:14130-1683878400-1683914400@www.belluzzifioravanti.it
SUMMARY:LA FISICA DELLE ATTRAZIONI
DESCRIPTION:Le classi 2Ac e 2Log si recano al parco di Mirabilandia presso Ravenna per svolgere attività didattica di fisica sperimentale. \nDocenti accompagnatori: proff. Passarelli\, Rombaldi\, Fabbri e Di Zenzo \n
URL:https://www.belluzzifioravanti.it/event/la-fisica-delle-attrazioni-2/
END:VEVENT
END:VCALENDAR