BEGIN:VCALENDAR
VERSION:2.0
PRODID:-//IIS O. Belluzzi – Fioravanti - ECPv4.9.4//NONSGML v1.0//EN
CALSCALE:GREGORIAN
METHOD:PUBLISH
X-WR-CALNAME:IIS O. Belluzzi – Fioravanti
X-ORIGINAL-URL:https://www.belluzzifioravanti.it
X-WR-CALDESC:Eventi per IIS O. Belluzzi – Fioravanti
BEGIN:VTIMEZONE
TZID:"Europe/Rome"
BEGIN:DAYLIGHT
TZOFFSETFROM:+0100
TZOFFSETTO:+0200
TZNAME:CEST
DTSTART:20230326T010000
END:DAYLIGHT
BEGIN:STANDARD
TZOFFSETFROM:+0200
TZOFFSETTO:+0100
TZNAME:CET
DTSTART:20231029T010000
END:STANDARD
END:VTIMEZONE
BEGIN:VEVENT
DTSTART;TZID="Europe/Rome":20230427T080000
DTEND;TZID="Europe/Rome":20230427T140000
DTSTAMP:20260425T133750
CREATED:20230306T094243Z
LAST-MODIFIED:20230306T094243Z
UID:13810-1682582400-1682604000@www.belluzzifioravanti.it
SUMMARY:Educazione alla legalità
DESCRIPTION:La classe 2Bfa aderisce al progetto legalità e si reca  alla pizzeria etica “Porta pazienza”\, in via Pirandello 9\, l Bologna.\nDocenti accompagnatrici: prof.sse Laura Lombardi\, Tiziana Mucci\, Irene Sabaudo.\n
URL:https://www.belluzzifioravanti.it/event/educazione-alla-legalita/
END:VEVENT
BEGIN:VEVENT
DTSTART;TZID="Europe/Rome":20230427T090000
DTEND;TZID="Europe/Rome":20230427T140000
DTSTAMP:20260425T133750
CREATED:20230505T105310Z
LAST-MODIFIED:20230505T105310Z
UID:14148-1682586000-1682604000@www.belluzzifioravanti.it
SUMMARY:Visita al Museo Civico Archeologico di Bologna
DESCRIPTION:Visita al Museo Civico Archeologico di Bologna\nLa classe 1 DI si reca al Museo Civico Archeologico per partecipare alle seguenti visite guidate: “Alla scoperta dell’antico Egitto”\, “Vivere nella polis”.\nDOCENTI ACCOMPAGNATORI: Prof. Giovanni Zanotti\, Prof.ssa Elena Naio\, Prof. Orlando Capece\n
URL:https://www.belluzzifioravanti.it/event/visita-al-museo-civico-archeologico-di-bologna-2/
END:VEVENT
END:VCALENDAR