BEGIN:VCALENDAR
VERSION:2.0
PRODID:-//IIS O. Belluzzi – Fioravanti - ECPv4.9.4//NONSGML v1.0//EN
CALSCALE:GREGORIAN
METHOD:PUBLISH
X-WR-CALNAME:IIS O. Belluzzi – Fioravanti
X-ORIGINAL-URL:https://www.belluzzifioravanti.it
X-WR-CALDESC:Eventi per IIS O. Belluzzi – Fioravanti
BEGIN:VTIMEZONE
TZID:"Europe/Rome"
BEGIN:DAYLIGHT
TZOFFSETFROM:+0100
TZOFFSETTO:+0200
TZNAME:CEST
DTSTART:20230326T010000
END:DAYLIGHT
BEGIN:STANDARD
TZOFFSETFROM:+0200
TZOFFSETTO:+0100
TZNAME:CET
DTSTART:20231029T010000
END:STANDARD
END:VTIMEZONE
BEGIN:VEVENT
DTSTART;TZID="Europe/Rome":20230420T080000
DTEND;TZID="Europe/Rome":20230420T140000
DTSTAMP:20260425T133750
CREATED:20230414T081415Z
LAST-MODIFIED:20230414T081415Z
UID:14009-1681977600-1681999200@www.belluzzifioravanti.it
SUMMARY:OFFICINA DI PITAGORA
DESCRIPTION:LA classe 1DM si reca presso il Museo della Musica e Basilica di San Petronio\, per il laboratorio “Officina di Pitagora” e la visita alla cappella di San Michele. \nDocenti accompagnatori: proff. Francesco Carbonera e Alessandro Mannina. \n
URL:https://www.belluzzifioravanti.it/event/officina-di-pitagora/
END:VEVENT
BEGIN:VEVENT
DTSTART;TZID="Europe/Rome":20230420T080000
DTEND;TZID="Europe/Rome":20230420T140000
DTSTAMP:20260425T133750
CREATED:20230414T081706Z
LAST-MODIFIED:20230414T081706Z
UID:14011-1681977600-1681999200@www.belluzzifioravanti.it
SUMMARY:Pizzeria Porta Pazienza
DESCRIPTION:La classe 2bc si reca presso la Pizzeria etica Porta Pazienza di via Pirandello n. 6\, Bologna\, per il progetto legalità/ lotta alla criminalità\, \nDocenti accompagnatori: proff. Maurizio Ambrosi e Paolo Cremonini.\n
URL:https://www.belluzzifioravanti.it/event/pizzeria-porta-pazienza-6/
END:VEVENT
END:VCALENDAR