BEGIN:VCALENDAR
VERSION:2.0
PRODID:-//IIS O. Belluzzi – Fioravanti - ECPv4.9.4//NONSGML v1.0//EN
CALSCALE:GREGORIAN
METHOD:PUBLISH
X-WR-CALNAME:IIS O. Belluzzi – Fioravanti
X-ORIGINAL-URL:https://www.belluzzifioravanti.it
X-WR-CALDESC:Eventi per IIS O. Belluzzi – Fioravanti
BEGIN:VTIMEZONE
TZID:"Europe/Rome"
BEGIN:DAYLIGHT
TZOFFSETFROM:+0100
TZOFFSETTO:+0200
TZNAME:CEST
DTSTART:20230326T010000
END:DAYLIGHT
BEGIN:STANDARD
TZOFFSETFROM:+0200
TZOFFSETTO:+0100
TZNAME:CET
DTSTART:20231029T010000
END:STANDARD
END:VTIMEZONE
BEGIN:VEVENT
DTSTART;TZID="Europe/Rome":20230405T080000
DTEND;TZID="Europe/Rome":20230405T140000
DTSTAMP:20260425T133708
CREATED:20230327T082242Z
LAST-MODIFIED:20230327T082304Z
UID:13982-1680681600-1680703200@www.belluzzifioravanti.it
SUMMARY:Museo Civico Archeologico e Archiginnasio
DESCRIPTION:La classe 3CFA  si reca presso il museo Civico Archeologico e l’Archiginnasio  in via dell’Archiginnasio 2 – Bologna\nDocenti accompagnatori: proff. Scamperti  Costantino e Graziano  Santo\n
URL:https://www.belluzzifioravanti.it/event/museo-civico-archeologico-13/
END:VEVENT
END:VCALENDAR