BEGIN:VCALENDAR
VERSION:2.0
PRODID:-//IIS O. Belluzzi – Fioravanti - ECPv4.9.4//NONSGML v1.0//EN
CALSCALE:GREGORIAN
METHOD:PUBLISH
X-WR-CALNAME:IIS O. Belluzzi – Fioravanti
X-ORIGINAL-URL:https://www.belluzzifioravanti.it
X-WR-CALDESC:Eventi per IIS O. Belluzzi – Fioravanti
BEGIN:VTIMEZONE
TZID:"Europe/Rome"
BEGIN:DAYLIGHT
TZOFFSETFROM:+0100
TZOFFSETTO:+0200
TZNAME:CEST
DTSTART:20230326T010000
END:DAYLIGHT
BEGIN:STANDARD
TZOFFSETFROM:+0200
TZOFFSETTO:+0100
TZNAME:CET
DTSTART:20231029T010000
END:STANDARD
END:VTIMEZONE
BEGIN:VEVENT
DTSTART;TZID="Europe/Rome":20230316T080000
DTEND;TZID="Europe/Rome":20230316T140000
DTSTAMP:20260425T155321
CREATED:20230306T093752Z
LAST-MODIFIED:20230306T093752Z
UID:13808-1678953600-1678975200@www.belluzzifioravanti.it
SUMMARY:Progetto legalità
DESCRIPTION:La classe 2Ae aderisce al progetto legalità e visita la pizzeria etica “Porta pazienza”\, in via Pirandello 9\, Bologna. \nDocenti accompagnatrici: proff.sse Valeria Trovato\, Carmela di Matteo\, Irene Sabaudo.\n
URL:https://www.belluzzifioravanti.it/event/progetto-legalita/
END:VEVENT
BEGIN:VEVENT
DTSTART;TZID="Europe/Rome":20230316T080000
DTEND;TZID="Europe/Rome":20230316T140000
DTSTAMP:20260425T155321
CREATED:20230306T094927Z
LAST-MODIFIED:20230306T094927Z
UID:13814-1678953600-1678975200@www.belluzzifioravanti.it
SUMMARY:Opificio Golinelli
DESCRIPTION:La classe 1Log si reca all’ Opificio Golinelli per un’esperienza didattica che coniuga la programmazione e la robotica con le prassi e gli strumenti del laboratorio di scienze (chimica e\nbiologia)\, intitolata “Tra robotica e scienze: BIOBOT”. \nGli studenti raggiungeranno autonomamente l’Opificio Golinelli e sempre in modo autonomo faranno rientro a casa. \nDOCENTI ACCOMPAGNATORI: proff. Elena Naio\, Antonella Matteacci e Orlando Capece. \n
URL:https://www.belluzzifioravanti.it/event/opificio-golinelli-18/
END:VEVENT
BEGIN:VEVENT
DTSTART;TZID="Europe/Rome":20230316T090000
DTEND;TZID="Europe/Rome":20230316T130000
DTSTAMP:20260425T155321
CREATED:20230324T091046Z
LAST-MODIFIED:20230324T091046Z
UID:13978-1678957200-1678971600@www.belluzzifioravanti.it
SUMMARY:Cinema Odeon
DESCRIPTION:La classe 2bfa\, in autonomia\, si reca al cinema Odeon (Bologna) per la visione gratuita della proiezione cinematografica The Fabelmans. Anche il rientro sarà autonomo al termine della proiezione. \nDocenti accompagnatori: prof.ssa Matteacci\, prof. Scamperti\, prof.ssa Pacucci.\n
URL:https://www.belluzzifioravanti.it/event/cinema-odeon/
END:VEVENT
BEGIN:VEVENT
DTSTART;TZID="Europe/Rome":20230316T100000
DTEND;TZID="Europe/Rome":20230316T120000
DTSTAMP:20260425T155321
CREATED:20230324T090603Z
LAST-MODIFIED:20230324T090603Z
UID:13974-1678960800-1678968000@www.belluzzifioravanti.it
SUMMARY:Proiezione film "THE FABELMANS"
DESCRIPTION:La classe 2CM si reca presso il cinema Odeon di Via Mascarella\, a Bologna\, per assistere alla proiezione del film “The Fabelmans”. \nDocenti accompagnatori: prof.ssa Chiara Corrado e prof. Tullio Sarti. \n
URL:https://www.belluzzifioravanti.it/event/proiezione-film-the-fabelmans/
END:VEVENT
END:VCALENDAR