BEGIN:VCALENDAR
VERSION:2.0
PRODID:-//IIS O. Belluzzi – Fioravanti - ECPv4.9.4//NONSGML v1.0//EN
CALSCALE:GREGORIAN
METHOD:PUBLISH
X-WR-CALNAME:IIS O. Belluzzi – Fioravanti
X-ORIGINAL-URL:https://www.belluzzifioravanti.it
X-WR-CALDESC:Eventi per IIS O. Belluzzi – Fioravanti
BEGIN:VTIMEZONE
TZID:"Europe/Rome"
BEGIN:DAYLIGHT
TZOFFSETFROM:+0100
TZOFFSETTO:+0200
TZNAME:CEST
DTSTART:20230326T010000
END:DAYLIGHT
BEGIN:STANDARD
TZOFFSETFROM:+0200
TZOFFSETTO:+0100
TZNAME:CET
DTSTART:20231029T010000
END:STANDARD
END:VTIMEZONE
BEGIN:VEVENT
DTSTART;TZID="Europe/Rome":20230302T080000
DTEND;TZID="Europe/Rome":20230302T140000
DTSTAMP:20260425T155554
CREATED:20230306T092706Z
LAST-MODIFIED:20230306T092706Z
UID:13803-1677744000-1677765600@www.belluzzifioravanti.it
SUMMARY:MUSEO ARCHEOLOGICO
DESCRIPTION:La classe 1BFM si reca al Museo Civico Archeologico di Bologna per visitare la sezione dedicata all’Antico Egitto \nAppuntamento alle ore 9.15 presso piazza del Nettuno. Al termine delle attività gli studenti rientrano in modo autonomo alle proprie abitazioni.\nDocenti accompagnatori: prof. Michele Tonin\, prof.ssa Anna Persetto\, prof. Stefano Pilia\n
URL:https://www.belluzzifioravanti.it/event/museo-archeologico-4/
END:VEVENT
BEGIN:VEVENT
DTSTART;TZID="Europe/Rome":20230302T080000
DTEND;TZID="Europe/Rome":20230302T140000
DTSTAMP:20260425T155554
CREATED:20230306T093200Z
LAST-MODIFIED:20230306T093200Z
UID:13805-1677744000-1677765600@www.belluzzifioravanti.it
SUMMARY:Opificio Golinelli
DESCRIPTION:La classe 2AFE si reca presso l’Opificio Golinelli per svolgere l’attività “Tra robotica e scienze: BIOBOT e mostra “Oltre lo spazio\, oltre il tempo: il sogno di Ulisse Aldrovandi”. \nGli studenti raggiungeranno autonomamente l’Opificio Golinelli e sempre in modo autonomo faranno rientro a casa. \nDocenti accompagnatori: proff. Daniela Maione\, Elena Naio\, Lorenzo Daniele Turnaturi \n
URL:https://www.belluzzifioravanti.it/event/opificio-golinelli-16/
END:VEVENT
END:VCALENDAR