BEGIN:VCALENDAR
VERSION:2.0
PRODID:-//IIS O. Belluzzi – Fioravanti - ECPv4.9.4//NONSGML v1.0//EN
CALSCALE:GREGORIAN
METHOD:PUBLISH
X-WR-CALNAME:IIS O. Belluzzi – Fioravanti
X-ORIGINAL-URL:https://www.belluzzifioravanti.it
X-WR-CALDESC:Eventi per IIS O. Belluzzi – Fioravanti
BEGIN:VTIMEZONE
TZID:"Europe/Rome"
BEGIN:DAYLIGHT
TZOFFSETFROM:+0100
TZOFFSETTO:+0200
TZNAME:CEST
DTSTART:20230326T010000
END:DAYLIGHT
BEGIN:STANDARD
TZOFFSETFROM:+0200
TZOFFSETTO:+0100
TZNAME:CET
DTSTART:20231029T010000
END:STANDARD
END:VTIMEZONE
BEGIN:VEVENT
DTSTART;TZID="Europe/Rome":20230206T080000
DTEND;TZID="Europe/Rome":20230206T140000
DTSTAMP:20260425T174737
CREATED:20230128T103032Z
LAST-MODIFIED:20230128T103032Z
UID:13609-1675670400-1675692000@www.belluzzifioravanti.it
SUMMARY:Un pianeta non basta più: il problema delle materie prime
DESCRIPTION:La classe 2Bc si reca presso l’Area di Ricerca del CNR di Bologna\, via Gobetti 101\, per seguire la lezione della dottoressa Eleonora Polo dal titolo: “Un pianeta non basta più: il problema delle materie prime”.\nDOCENTI ACCOMPAGNATORI: prof.ssa Tiziana Basile\, prof.ssa Daniela Parisi. \n
URL:https://www.belluzzifioravanti.it/event/un-pianeta-non-basta-piu-il-problema-delle-materie-prime/
END:VEVENT
END:VCALENDAR