BEGIN:VCALENDAR
VERSION:2.0
PRODID:-//IIS O. Belluzzi – Fioravanti - ECPv4.9.4//NONSGML v1.0//EN
CALSCALE:GREGORIAN
METHOD:PUBLISH
X-WR-CALNAME:IIS O. Belluzzi – Fioravanti
X-ORIGINAL-URL:https://www.belluzzifioravanti.it
X-WR-CALDESC:Eventi per IIS O. Belluzzi – Fioravanti
BEGIN:VTIMEZONE
TZID:"Europe/Rome"
BEGIN:DAYLIGHT
TZOFFSETFROM:+0100
TZOFFSETTO:+0200
TZNAME:CEST
DTSTART:20230326T010000
END:DAYLIGHT
BEGIN:STANDARD
TZOFFSETFROM:+0200
TZOFFSETTO:+0100
TZNAME:CET
DTSTART:20231029T010000
END:STANDARD
END:VTIMEZONE
BEGIN:VEVENT
DTSTART;TZID="Europe/Rome":20230201T100000
DTEND;TZID="Europe/Rome":20230201T140000
DTSTAMP:20260425T174934
CREATED:20230126T104810Z
LAST-MODIFIED:20230126T104810Z
UID:13601-1675245600-1675260000@www.belluzzifioravanti.it
SUMMARY:Il fu Mattia Pascal
DESCRIPTION:Le CLASSI 4Bi e 5Bi si recano  alla biblioteca comunale di Casalecchio di Reno per seguire la lezione di Simone Maretti sul romanzo di Pirandello\, “Il fu Mattia Pascal”\nDOCENTI ACCOMPAGNATORI: Prof.sa Valeria Braidi\, prof. Alessandro Di Stanislo\, educatore Marco Salvioli\,prof. Salvatore Martello\, prof. Mattia Falcone \n
URL:https://www.belluzzifioravanti.it/event/il-fu-mattia-pascal/
END:VEVENT
END:VCALENDAR