BEGIN:VCALENDAR
VERSION:2.0
PRODID:-//IIS O. Belluzzi – Fioravanti - ECPv4.9.4//NONSGML v1.0//EN
CALSCALE:GREGORIAN
METHOD:PUBLISH
X-WR-CALNAME:IIS O. Belluzzi – Fioravanti
X-ORIGINAL-URL:https://www.belluzzifioravanti.it
X-WR-CALDESC:Eventi per IIS O. Belluzzi – Fioravanti
BEGIN:VTIMEZONE
TZID:"Europe/Rome"
BEGIN:DAYLIGHT
TZOFFSETFROM:+0100
TZOFFSETTO:+0200
TZNAME:CEST
DTSTART:20220327T010000
END:DAYLIGHT
BEGIN:STANDARD
TZOFFSETFROM:+0200
TZOFFSETTO:+0100
TZNAME:CET
DTSTART:20221030T010000
END:STANDARD
END:VTIMEZONE
BEGIN:VEVENT
DTSTART;TZID="Europe/Rome":20221221T093000
DTEND;TZID="Europe/Rome":20221221T120000
DTSTAMP:20260425T212918
CREATED:20221209T101601Z
LAST-MODIFIED:20221209T101601Z
UID:13369-1671615000-1671624000@www.belluzzifioravanti.it
SUMMARY:Museo Marconi
DESCRIPTION:La classe 4Ai si reca presso il museo Marconi per la visita guidata e la dimostrazione tecnica.\n\nGli studenti si recheranno al Museo in autonomia e saranno liberi al termine dell'attività.\n\nDocenti accompagnatori: Prof. M. Molè - Daniele Vegetti.\n\n\n\n
URL:https://www.belluzzifioravanti.it/event/museo-marconi-7/
END:VEVENT
END:VCALENDAR