BEGIN:VCALENDAR
VERSION:2.0
PRODID:-//IIS O. Belluzzi – Fioravanti - ECPv4.9.4//NONSGML v1.0//EN
CALSCALE:GREGORIAN
METHOD:PUBLISH
X-WR-CALNAME:IIS O. Belluzzi – Fioravanti
X-ORIGINAL-URL:https://www.belluzzifioravanti.it
X-WR-CALDESC:Eventi per IIS O. Belluzzi – Fioravanti
BEGIN:VTIMEZONE
TZID:"Europe/Rome"
BEGIN:DAYLIGHT
TZOFFSETFROM:+0100
TZOFFSETTO:+0200
TZNAME:CEST
DTSTART:20220327T010000
END:DAYLIGHT
BEGIN:STANDARD
TZOFFSETFROM:+0200
TZOFFSETTO:+0100
TZNAME:CET
DTSTART:20221030T010000
END:STANDARD
END:VTIMEZONE
BEGIN:VEVENT
DTSTART;TZID="Europe/Rome":20221220T080000
DTEND;TZID="Europe/Rome":20221220T140000
DTSTAMP:20260425T233140
CREATED:20221212T140822Z
LAST-MODIFIED:20221212T140822Z
UID:13408-1671523200-1671544800@www.belluzzifioravanti.it
SUMMARY:LA STRANEZZA
DESCRIPTION:La CLASSE 5Ael si reca presso il cinema ODEON di via mascarella a Bologna\nper assistere alla proiezione del film LA STRANEZZA\nDOCENTI ACCOMPAGNATORI: Prof.Federica Travaglini; Ettore Di Silverio\n
URL:https://www.belluzzifioravanti.it/event/la-stranezza/
END:VEVENT
END:VCALENDAR