BEGIN:VCALENDAR
VERSION:2.0
PRODID:-//IIS O. Belluzzi – Fioravanti - ECPv4.9.4//NONSGML v1.0//EN
CALSCALE:GREGORIAN
METHOD:PUBLISH
X-WR-CALNAME:IIS O. Belluzzi – Fioravanti
X-ORIGINAL-URL:https://www.belluzzifioravanti.it
X-WR-CALDESC:Eventi per IIS O. Belluzzi – Fioravanti
BEGIN:VTIMEZONE
TZID:"Europe/Rome"
BEGIN:DAYLIGHT
TZOFFSETFROM:+0100
TZOFFSETTO:+0200
TZNAME:CEST
DTSTART:20220327T010000
END:DAYLIGHT
BEGIN:STANDARD
TZOFFSETFROM:+0200
TZOFFSETTO:+0100
TZNAME:CET
DTSTART:20221030T010000
END:STANDARD
END:VTIMEZONE
BEGIN:VEVENT
DTSTART;TZID="Europe/Rome":20221015T080000
DTEND;TZID="Europe/Rome":20221015T130000
DTSTAMP:20260426T014145
CREATED:20221021T103109Z
LAST-MODIFIED:20221021T103109Z
UID:12988-1665820800-1665838800@www.belluzzifioravanti.it
SUMMARY:PASSAMANO PER SAN LUCA
DESCRIPTION:La classe 1BM  si reca a San Luca in occasione del passamano per San Luca. \nDocenti accompagnatori: Prof.ssa Maddalena Fre\, prof.ssa Mariacristina Murano. \n
URL:https://www.belluzzifioravanti.it/event/passamano-per-san-luca-2/
END:VEVENT
END:VCALENDAR