BEGIN:VCALENDAR
VERSION:2.0
PRODID:-//IIS O. Belluzzi – Fioravanti - ECPv4.9.4//NONSGML v1.0//EN
CALSCALE:GREGORIAN
METHOD:PUBLISH
X-WR-CALNAME:IIS O. Belluzzi – Fioravanti
X-ORIGINAL-URL:https://www.belluzzifioravanti.it
X-WR-CALDESC:Eventi per IIS O. Belluzzi – Fioravanti
BEGIN:VTIMEZONE
TZID:"Europe/Rome"
BEGIN:DAYLIGHT
TZOFFSETFROM:+0100
TZOFFSETTO:+0200
TZNAME:CEST
DTSTART:20230326T010000
END:DAYLIGHT
BEGIN:STANDARD
TZOFFSETFROM:+0200
TZOFFSETTO:+0100
TZNAME:CET
DTSTART:20231029T010000
END:STANDARD
END:VTIMEZONE
BEGIN:VEVENT
DTSTART;TZID="Europe/Rome":20230301T083000
DTEND;TZID="Europe/Rome":20230301T113000
DTSTAMP:20260425T160021
CREATED:20230220T093607Z
LAST-MODIFIED:20230220T093607Z
UID:13739-1677659400-1677670200@www.belluzzifioravanti.it
SUMMARY:XANADU. Laboratorio di educazione alla lettura.
DESCRIPTION:La classe 1AE si reca presso la Biblioteca Pezzoli di via Battindarno 123 per il laboratorio di educazione alla lettura Xanadu.\nInsegnanti accompagnatrici: prof.ssa  Lucia Bozzoli e prof.ssa Martina Zadra.\n\n\n
URL:https://www.belluzzifioravanti.it/event/xanadu-laboratorio-di-educazione-alla-lettura/
END:VEVENT
END:VCALENDAR