BEGIN:VCALENDAR
VERSION:2.0
PRODID:-//IIS O. Belluzzi – Fioravanti - ECPv4.9.4//NONSGML v1.0//EN
CALSCALE:GREGORIAN
METHOD:PUBLISH
X-WR-CALNAME:IIS O. Belluzzi – Fioravanti
X-ORIGINAL-URL:https://www.belluzzifioravanti.it
X-WR-CALDESC:Eventi per IIS O. Belluzzi – Fioravanti
BEGIN:VTIMEZONE
TZID:"Europe/Rome"
BEGIN:DAYLIGHT
TZOFFSETFROM:+0100
TZOFFSETTO:+0200
TZNAME:CEST
DTSTART:20230326T010000
END:DAYLIGHT
BEGIN:STANDARD
TZOFFSETFROM:+0200
TZOFFSETTO:+0100
TZNAME:CET
DTSTART:20231029T010000
END:STANDARD
END:VTIMEZONE
BEGIN:VEVENT
DTSTART;TZID="Europe/Rome":20230503T090000
DTEND;TZID="Europe/Rome":20230503T140000
DTSTAMP:20260425T134206
CREATED:20230505T105133Z
LAST-MODIFIED:20230505T105133Z
UID:14146-1683104400-1683122400@www.belluzzifioravanti.it
SUMMARY:Visita al Museo Civico Archeologico di Bologna
DESCRIPTION:La classe 2 BC si reca al Museo Civico Archeologico per partecipare alle seguenti visite guidate: “La storia di Bologna dalla preistoria all’epoca romana”\, “La vita quotidiana nell’antica Roma”.\nDOCENTI ACCOMPAGNATORI: Prof. Giovanni Zanotti\, Prof.ssa Anna Persetto \n
URL:https://www.belluzzifioravanti.it/event/visita-al-museo-civico-archeologico-di-bologna/
END:VEVENT
END:VCALENDAR