BEGIN:VCALENDAR
VERSION:2.0
PRODID:-//IIS O. Belluzzi – Fioravanti - ECPv4.9.4//NONSGML v1.0//EN
CALSCALE:GREGORIAN
METHOD:PUBLISH
X-WR-CALNAME:IIS O. Belluzzi – Fioravanti
X-ORIGINAL-URL:https://www.belluzzifioravanti.it
X-WR-CALDESC:Eventi per IIS O. Belluzzi – Fioravanti
BEGIN:VTIMEZONE
TZID:"Europe/Rome"
BEGIN:DAYLIGHT
TZOFFSETFROM:+0100
TZOFFSETTO:+0200
TZNAME:CEST
DTSTART:20230326T010000
END:DAYLIGHT
BEGIN:STANDARD
TZOFFSETFROM:+0200
TZOFFSETTO:+0100
TZNAME:CET
DTSTART:20231029T010000
END:STANDARD
END:VTIMEZONE
BEGIN:VEVENT
DTSTART;TZID="Europe/Rome":20230227T080000
DTEND;TZID="Europe/Rome":20230227T140000
DTSTAMP:20260425T155755
CREATED:20230220T093227Z
LAST-MODIFIED:20230220T093227Z
UID:13737-1677484800-1677506400@www.belluzzifioravanti.it
SUMMARY:VISITA AL CENTRO STORICO DI BOLOGNA
DESCRIPTION:La classe 2Bfa visita il centro cittadino e partecipa al laboratorio “Mondi possibili” tenuto dalle operatrici Opengroup e dal centro Riesco.\nDocenti accompagnatrici: prof.ssa Laura Lombardi\, prof.ssa Tiziana Mucci\, prof. Stanislao Allegretti.\n\n
URL:https://www.belluzzifioravanti.it/event/visita-al-centro-storico-di-bologna/
END:VEVENT
END:VCALENDAR