BEGIN:VCALENDAR
VERSION:2.0
PRODID:-//IIS O. Belluzzi – Fioravanti - ECPv4.9.4//NONSGML v1.0//EN
CALSCALE:GREGORIAN
METHOD:PUBLISH
X-WR-CALNAME:IIS O. Belluzzi – Fioravanti
X-ORIGINAL-URL:https://www.belluzzifioravanti.it
X-WR-CALDESC:Eventi per IIS O. Belluzzi – Fioravanti
BEGIN:VTIMEZONE
TZID:"Europe/Rome"
BEGIN:DAYLIGHT
TZOFFSETFROM:+0100
TZOFFSETTO:+0200
TZNAME:CEST
DTSTART:20230326T010000
END:DAYLIGHT
BEGIN:STANDARD
TZOFFSETFROM:+0200
TZOFFSETTO:+0100
TZNAME:CET
DTSTART:20231029T010000
END:STANDARD
END:VTIMEZONE
BEGIN:VEVENT
DTSTART;TZID="Europe/Rome":20230505T080000
DTEND;TZID="Europe/Rome":20230505T180000
DTSTAMP:20260425T133932
CREATED:20230505T104305Z
LAST-MODIFIED:20230505T104305Z
UID:14140-1683273600-1683309600@www.belluzzifioravanti.it
SUMMARY:VISITA A FIRENZE
DESCRIPTION:La classe 2Bi si reca a Firenze per visitare in Giardini dei Boboli e i Giardini Bardini; al pomeriggio\, passeggiata guidata “Scoprendo Firenze”. \nDocenti accompagnatori: proff. Chiara Calderone\, Marianna Rombaldi\, Pasquale Gargiulo. \n
URL:https://www.belluzzifioravanti.it/event/visita-a-firenze/
END:VEVENT
END:VCALENDAR