BEGIN:VCALENDAR
VERSION:2.0
PRODID:-//IIS O. Belluzzi – Fioravanti - ECPv4.9.4//NONSGML v1.0//EN
CALSCALE:GREGORIAN
METHOD:PUBLISH
X-WR-CALNAME:IIS O. Belluzzi – Fioravanti
X-ORIGINAL-URL:https://www.belluzzifioravanti.it
X-WR-CALDESC:Eventi per IIS O. Belluzzi – Fioravanti
BEGIN:VTIMEZONE
TZID:"Europe/Rome"
BEGIN:DAYLIGHT
TZOFFSETFROM:+0100
TZOFFSETTO:+0200
TZNAME:CEST
DTSTART:20230326T010000
END:DAYLIGHT
BEGIN:STANDARD
TZOFFSETFROM:+0200
TZOFFSETTO:+0100
TZNAME:CET
DTSTART:20231029T010000
END:STANDARD
END:VTIMEZONE
BEGIN:VEVENT
DTSTART;TZID="Europe/Rome":20230315T080000
DTEND;TZID="Europe/Rome":20230315T140000
DTSTAMP:20260425T155848
CREATED:20230311T092025Z
LAST-MODIFIED:20230311T092025Z
UID:13838-1678867200-1678888800@www.belluzzifioravanti.it
SUMMARY:Villa Edvige Garagnani
DESCRIPTION:La classe 3Ci si reca presso Villa Edvige Garagnani\, V. Masini\, 11\, Zola\nPredosa (BO) per Attività di idea generation\nDOCENTE/I ACCOMPAGNATORE/I: Proff. Francesco AVANZOLINI – Paolo FLAMIGNI \n
URL:https://www.belluzzifioravanti.it/event/villa-edvige-garagnani/
END:VEVENT
END:VCALENDAR