BEGIN:VCALENDAR
VERSION:2.0
PRODID:-//IIS O. Belluzzi – Fioravanti - ECPv4.9.4//NONSGML v1.0//EN
CALSCALE:GREGORIAN
METHOD:PUBLISH
X-WR-CALNAME:IIS O. Belluzzi – Fioravanti
X-ORIGINAL-URL:https://www.belluzzifioravanti.it
X-WR-CALDESC:Eventi per IIS O. Belluzzi – Fioravanti
BEGIN:VTIMEZONE
TZID:"Europe/Rome"
BEGIN:DAYLIGHT
TZOFFSETFROM:+0100
TZOFFSETTO:+0200
TZNAME:CEST
DTSTART:20230326T010000
END:DAYLIGHT
BEGIN:STANDARD
TZOFFSETFROM:+0200
TZOFFSETTO:+0100
TZNAME:CET
DTSTART:20231029T010000
END:STANDARD
END:VTIMEZONE
BEGIN:VEVENT
DTSTART;TZID="Europe/Rome":20230414T080000
DTEND;TZID="Europe/Rome":20230414T140000
DTSTAMP:20260425T134253
CREATED:20230413T075821Z
LAST-MODIFIED:20230413T075843Z
UID:14003-1681459200-1681480800@www.belluzzifioravanti.it
SUMMARY:Un rifugio tutto per sè+ visita alle Basiliche di San Petronio e Santo Stefano
DESCRIPTION:La classe 3AEL-LOG si reca  presso Palazzo d’Accursio\, per la visita alla Mostra fotografica \n“Un rifugio tutto per sè”- percorso legalità- e per una visita alle Basiliche di San Petronio e Santo Stefano. \nDocenti accompagnatori: prof.sse Di Matteo e Tufillaro\, \n
URL:https://www.belluzzifioravanti.it/event/un-rifugio-tutto-per-se-visita-alle-basiliche-di-san-petronio-e-santo-stefano/
END:VEVENT
END:VCALENDAR