BEGIN:VCALENDAR
VERSION:2.0
PRODID:-//IIS O. Belluzzi – Fioravanti - ECPv4.9.4//NONSGML v1.0//EN
CALSCALE:GREGORIAN
METHOD:PUBLISH
X-WR-CALNAME:IIS O. Belluzzi – Fioravanti
X-ORIGINAL-URL:https://www.belluzzifioravanti.it
X-WR-CALDESC:Eventi per IIS O. Belluzzi – Fioravanti
BEGIN:VTIMEZONE
TZID:"Europe/Rome"
BEGIN:DAYLIGHT
TZOFFSETFROM:+0100
TZOFFSETTO:+0200
TZNAME:CEST
DTSTART:20230326T010000
END:DAYLIGHT
BEGIN:STANDARD
TZOFFSETFROM:+0200
TZOFFSETTO:+0100
TZNAME:CET
DTSTART:20231029T010000
END:STANDARD
END:VTIMEZONE
BEGIN:VEVENT
DTSTART;TZID="Europe/Rome":20230210T080000
DTEND;TZID="Europe/Rome":20230210T140000
DTSTAMP:20260425T175609
CREATED:20230130T075819Z
LAST-MODIFIED:20230130T080025Z
UID:13619-1676016000-1676037600@www.belluzzifioravanti.it
SUMMARY:Trasformazione batterica\, purificazione della Green Fluorescent Protein
DESCRIPTION:La classe 5Ac si reca presso l’Opificio Golinelli di Bologna\, via Paolo Nanni Costa 14\, per un’uscita didattica e attività laboratoriale dal\ntitolo: “Trasformazione batterica\, purificazione della Green Fluorescent Protein”\nDOCENTI ACCOMPAGNATORI: Prof.sse Tiziana Basile\, Valeria Trovato \n
URL:https://www.belluzzifioravanti.it/event/trasformazione-batterica-purificazione-della-green-fluorescent-protein/
END:VEVENT
END:VCALENDAR