BEGIN:VCALENDAR
VERSION:2.0
PRODID:-//IIS O. Belluzzi – Fioravanti - ECPv4.9.4//NONSGML v1.0//EN
CALSCALE:GREGORIAN
METHOD:PUBLISH
X-WR-CALNAME:IIS O. Belluzzi – Fioravanti
X-ORIGINAL-URL:https://www.belluzzifioravanti.it
X-WR-CALDESC:Eventi per IIS O. Belluzzi – Fioravanti
BEGIN:VTIMEZONE
TZID:"Europe/Rome"
BEGIN:DAYLIGHT
TZOFFSETFROM:+0100
TZOFFSETTO:+0200
TZNAME:CEST
DTSTART:20220327T010000
END:DAYLIGHT
BEGIN:STANDARD
TZOFFSETFROM:+0200
TZOFFSETTO:+0100
TZNAME:CET
DTSTART:20221030T010000
END:STANDARD
END:VTIMEZONE
BEGIN:VEVENT
DTSTART;TZID="Europe/Rome":20221025T090000
DTEND;TZID="Europe/Rome":20221025T140000
DTSTAMP:20260426T025618
CREATED:20221021T102342Z
LAST-MODIFIED:20221021T102342Z
UID:12984-1666688400-1666706400@www.belluzzifioravanti.it
SUMMARY:Tra robotica e scienze: Biobot
DESCRIPTION:La classe 2Am si reca presso l’Opificio Golinelli per partecipare a una esperienza didattica che coniuga la programmazione e la robotica con le prassi e gli strumenti del laboratorio di scienze (chimica e biologia). \nDOCENTI ACCOMPAGNATORI: prof.ssa Laura Falcone e prof. Tullio Sarti \n
URL:https://www.belluzzifioravanti.it/event/tra-robotica-e-scienze-biobot/
END:VEVENT
END:VCALENDAR