BEGIN:VCALENDAR
VERSION:2.0
PRODID:-//IIS O. Belluzzi – Fioravanti - ECPv4.9.4//NONSGML v1.0//EN
CALSCALE:GREGORIAN
METHOD:PUBLISH
X-WR-CALNAME:IIS O. Belluzzi – Fioravanti
X-ORIGINAL-URL:https://www.belluzzifioravanti.it
X-WR-CALDESC:Eventi per IIS O. Belluzzi – Fioravanti
BEGIN:VTIMEZONE
TZID:"Europe/Rome"
BEGIN:DAYLIGHT
TZOFFSETFROM:+0100
TZOFFSETTO:+0200
TZNAME:CEST
DTSTART:20220327T010000
END:DAYLIGHT
BEGIN:STANDARD
TZOFFSETFROM:+0200
TZOFFSETTO:+0100
TZNAME:CET
DTSTART:20221030T010000
END:STANDARD
END:VTIMEZONE
BEGIN:VEVENT
DTSTART;TZID="Europe/Rome":20221129T083000
DTEND;TZID="Europe/Rome":20221129T113000
DTSTAMP:20260425T213712
CREATED:20221124T103703Z
LAST-MODIFIED:20221124T103703Z
UID:13238-1669710600-1669721400@www.belluzzifioravanti.it
SUMMARY: TECO - Laboratorio “Una sfida operativa per il braccio robotico e.DO”
DESCRIPTION:La classe 3Aau si reca all’Opificio Golinelli per lo svolgimento del TECO -Laboratorio “Una sfida operativa per il braccio robotico e.DO”\, organizzato all’interno dell’evento “Automazione e Robotica: uomo-macchina\, le sfide del futuro”.\n\nDOCENTI ACCOMPAGNATORI: Prof.Pizzuti Francesco\, Tedesco Leandro\n
URL:https://www.belluzzifioravanti.it/event/teco-laboratorio-una-sfida-operativa-per-il-braccio-robotico-e-do/
END:VEVENT
END:VCALENDAR