BEGIN:VCALENDAR
VERSION:2.0
PRODID:-//IIS O. Belluzzi – Fioravanti - ECPv4.9.4//NONSGML v1.0//EN
CALSCALE:GREGORIAN
METHOD:PUBLISH
X-WR-CALNAME:IIS O. Belluzzi – Fioravanti
X-ORIGINAL-URL:https://www.belluzzifioravanti.it
X-WR-CALDESC:Eventi per IIS O. Belluzzi – Fioravanti
BEGIN:VTIMEZONE
TZID:"Europe/Rome"
BEGIN:DAYLIGHT
TZOFFSETFROM:+0100
TZOFFSETTO:+0200
TZNAME:CEST
DTSTART:20220327T010000
END:DAYLIGHT
BEGIN:STANDARD
TZOFFSETFROM:+0200
TZOFFSETTO:+0100
TZNAME:CET
DTSTART:20221030T010000
END:STANDARD
END:VTIMEZONE
BEGIN:VEVENT
DTSTART;TZID="Europe/Rome":20220528T090000
DTEND;TZID="Europe/Rome":20220528T133000
DTSTAMP:20260426T025852
CREATED:20220523T074655Z
LAST-MODIFIED:20220523T081241Z
UID:12184-1653728400-1653744600@www.belluzzifioravanti.it
SUMMARY:School Maker Day 2022.
DESCRIPTION:Le classi 5Bi\, 4Bi si recano presso l’Opificio Golinelli per partecipare allo School Maker Day\nRitrovo in loco e al termine delle attività proposte e i ragazzi verranno lasciati in autonomia per il ritorno a casa.\nDocenti accompagnatori: Prof. Mattia Falcone\, Salvatore Martello\, Valeria Braidi\, Martina Rignanese\n\n
URL:https://www.belluzzifioravanti.it/event/school-maker-day-2022/
END:VEVENT
END:VCALENDAR