BEGIN:VCALENDAR
VERSION:2.0
PRODID:-//IIS O. Belluzzi – Fioravanti - ECPv4.9.4//NONSGML v1.0//EN
CALSCALE:GREGORIAN
METHOD:PUBLISH
X-WR-CALNAME:IIS O. Belluzzi – Fioravanti
X-ORIGINAL-URL:https://www.belluzzifioravanti.it
X-WR-CALDESC:Eventi per IIS O. Belluzzi – Fioravanti
BEGIN:VTIMEZONE
TZID:"Europe/Rome"
BEGIN:DAYLIGHT
TZOFFSETFROM:+0100
TZOFFSETTO:+0200
TZNAME:CEST
DTSTART:20230326T010000
END:DAYLIGHT
BEGIN:STANDARD
TZOFFSETFROM:+0200
TZOFFSETTO:+0100
TZNAME:CET
DTSTART:20231029T010000
END:STANDARD
END:VTIMEZONE
BEGIN:VEVENT
DTSTART;TZID="Europe/Rome":20230330T080000
DTEND;TZID="Europe/Rome":20230330T140000
DTSTAMP:20260425T134329
CREATED:20230324T085850Z
LAST-MODIFIED:20230324T085850Z
UID:13972-1680163200-1680184800@www.belluzzifioravanti.it
SUMMARY:Progetto legalità: Pizzeria Porta Pazienza\, un esempio di inclusione e supporto alla lotta contro le mafie
DESCRIPTION:La classe 2^Am si reca presso la Pizzeria Porta Pazienza in via Pirandello 6\, a Bologna\, per un incontro nel quale si affronteranno i temi dell’economia sociale e del consumo critico.\nDocenti accompagnatori: prof.ssa Laura Falcone\, prof.ssa Martina Lombardi Vallauri. \n
URL:https://www.belluzzifioravanti.it/event/progetto-legalita-pizzeria-porta-pazienza-un-esempio-di-inclusione-e-supporto-alla-lotta-contro-le-mafie/
END:VEVENT
END:VCALENDAR