BEGIN:VCALENDAR
VERSION:2.0
PRODID:-//IIS O. Belluzzi – Fioravanti - ECPv4.9.4//NONSGML v1.0//EN
CALSCALE:GREGORIAN
METHOD:PUBLISH
X-WR-CALNAME:IIS O. Belluzzi – Fioravanti
X-ORIGINAL-URL:https://www.belluzzifioravanti.it
X-WR-CALDESC:Eventi per IIS O. Belluzzi – Fioravanti
BEGIN:VTIMEZONE
TZID:"Europe/Rome"
BEGIN:DAYLIGHT
TZOFFSETFROM:+0100
TZOFFSETTO:+0200
TZNAME:CEST
DTSTART:20230326T010000
END:DAYLIGHT
BEGIN:STANDARD
TZOFFSETFROM:+0200
TZOFFSETTO:+0100
TZNAME:CET
DTSTART:20231029T010000
END:STANDARD
END:VTIMEZONE
BEGIN:VEVENT
DTSTART;TZID="Europe/Rome":20231017T090000
DTEND;TZID="Europe/Rome":20231017T130000
DTSTAMP:20260425T025254
CREATED:20231005T082420Z
LAST-MODIFIED:20231005T082420Z
UID:14820-1697533200-1697547600@www.belluzzifioravanti.it
SUMMARY:Prendetevi la luna- Un dialogo fra generazioni
DESCRIPTION:Le classi 4Ai e 5Ci si recano presso l’aula Stabat Mater- Palazzo dell’Archiginnasio per un incontro con Paolo Crepet: Prendetevi la luna- Un dialogo fra generazioni \nDocenti accompagnatori: Prof. Cotti\, Ciavardelli\, Fiorillo \n
URL:https://www.belluzzifioravanti.it/event/prendetevi-la-luna-un-dialogo-fra-generazioni/
END:VEVENT
END:VCALENDAR