BEGIN:VCALENDAR
VERSION:2.0
PRODID:-//IIS O. Belluzzi – Fioravanti - ECPv4.9.4//NONSGML v1.0//EN
CALSCALE:GREGORIAN
METHOD:PUBLISH
X-WR-CALNAME:IIS O. Belluzzi – Fioravanti
X-ORIGINAL-URL:https://www.belluzzifioravanti.it
X-WR-CALDESC:Eventi per IIS O. Belluzzi – Fioravanti
BEGIN:VTIMEZONE
TZID:"Europe/Rome"
BEGIN:DAYLIGHT
TZOFFSETFROM:+0100
TZOFFSETTO:+0200
TZNAME:CEST
DTSTART:20220327T010000
END:DAYLIGHT
BEGIN:STANDARD
TZOFFSETFROM:+0200
TZOFFSETTO:+0100
TZNAME:CET
DTSTART:20221030T010000
END:STANDARD
END:VTIMEZONE
BEGIN:VEVENT
DTSTART;TZID="Europe/Rome":20221212T080000
DTEND;TZID="Europe/Rome":20221212T140000
DTSTAMP:20260425T231101
CREATED:20221205T100734Z
LAST-MODIFIED:20221205T100734Z
UID:13342-1670832000-1670853600@www.belluzzifioravanti.it
SUMMARY:OSSERVATORIO ASTRONOMICO DI LOIANO
DESCRIPTION:La classe 1Ci si recs all’osservatorio astronomico di Loiano per un’uscita didattica. \n\nDocenti accompagnatori: prof.sa Caterina Finelli\, prof. Giorgio Bettineschi\, prof.sa Irene Sabaudo\n
URL:https://www.belluzzifioravanti.it/event/osservatorio-astronomico-di-loiano/
END:VEVENT
END:VCALENDAR