BEGIN:VCALENDAR
VERSION:2.0
PRODID:-//IIS O. Belluzzi – Fioravanti - ECPv4.9.4//NONSGML v1.0//EN
CALSCALE:GREGORIAN
METHOD:PUBLISH
X-WR-CALNAME:IIS O. Belluzzi – Fioravanti
X-ORIGINAL-URL:https://www.belluzzifioravanti.it
X-WR-CALDESC:Eventi per IIS O. Belluzzi – Fioravanti
BEGIN:VTIMEZONE
TZID:"Europe/Rome"
BEGIN:DAYLIGHT
TZOFFSETFROM:+0100
TZOFFSETTO:+0200
TZNAME:CEST
DTSTART:20220327T010000
END:DAYLIGHT
BEGIN:STANDARD
TZOFFSETFROM:+0200
TZOFFSETTO:+0100
TZNAME:CET
DTSTART:20221030T010000
END:STANDARD
END:VTIMEZONE
BEGIN:VEVENT
DTSTART;TZID="Europe/Rome":20221202T080000
DTEND;TZID="Europe/Rome":20221202T140000
DTSTAMP:20260425T212954
CREATED:20221128T095058Z
LAST-MODIFIED:20221128T095058Z
UID:13310-1669968000-1669989600@www.belluzzifioravanti.it
SUMMARY:Museo Medievale
DESCRIPTION:La CLASSE 3ci si reca al Museo Medievale di Bologna per una visita guidata del museo sulla storia della bologna Medievale e sulla nascita\ndell’Unibo.\n\nDOCENTE/I ACCOMPAGNATORE/I: Prof.sse Maria Letizia Cotti e Silvia Ciavardelli\n
URL:https://www.belluzzifioravanti.it/event/museo-medievale/
END:VEVENT
END:VCALENDAR