BEGIN:VCALENDAR
VERSION:2.0
PRODID:-//IIS O. Belluzzi – Fioravanti - ECPv4.9.4//NONSGML v1.0//EN
CALSCALE:GREGORIAN
METHOD:PUBLISH
X-WR-CALNAME:IIS O. Belluzzi – Fioravanti
X-ORIGINAL-URL:https://www.belluzzifioravanti.it
X-WR-CALDESC:Eventi per IIS O. Belluzzi – Fioravanti
BEGIN:VTIMEZONE
TZID:"Europe/Rome"
BEGIN:DAYLIGHT
TZOFFSETFROM:+0100
TZOFFSETTO:+0200
TZNAME:CEST
DTSTART:20220327T010000
END:DAYLIGHT
BEGIN:STANDARD
TZOFFSETFROM:+0200
TZOFFSETTO:+0100
TZNAME:CET
DTSTART:20221030T010000
END:STANDARD
END:VTIMEZONE
BEGIN:VEVENT
DTSTART;TZID="Europe/Rome":20221215T093000
DTEND;TZID="Europe/Rome":20221215T130000
DTSTAMP:20260425T232952
CREATED:20221209T091735Z
LAST-MODIFIED:20221209T091735Z
UID:13363-1671096600-1671109200@www.belluzzifioravanti.it
SUMMARY:Museo Marconi
DESCRIPTION:La classe 4Bi si reca presso il museo Marconi per la visita guidata e la dimostrazione tecnica.\nGli studenti saranno accompagnati al Museo con partenza dall'Istituto alle ore 9.30 e saranno liberi al termine dell'attività. \nInizio delle attività presso il museo ore 10.30.\nDocenti accompagnatori: Prof.M. Molè - A. Di Stanislao.\n
URL:https://www.belluzzifioravanti.it/event/museo-marconi-6/
END:VEVENT
END:VCALENDAR