BEGIN:VCALENDAR
VERSION:2.0
PRODID:-//IIS O. Belluzzi – Fioravanti - ECPv4.9.4//NONSGML v1.0//EN
CALSCALE:GREGORIAN
METHOD:PUBLISH
X-WR-CALNAME:IIS O. Belluzzi – Fioravanti
X-ORIGINAL-URL:https://www.belluzzifioravanti.it
X-WR-CALDESC:Eventi per IIS O. Belluzzi – Fioravanti
BEGIN:VTIMEZONE
TZID:"Europe/Rome"
BEGIN:DAYLIGHT
TZOFFSETFROM:+0100
TZOFFSETTO:+0200
TZNAME:CEST
DTSTART:20230326T010000
END:DAYLIGHT
BEGIN:STANDARD
TZOFFSETFROM:+0200
TZOFFSETTO:+0100
TZNAME:CET
DTSTART:20231029T010000
END:STANDARD
END:VTIMEZONE
BEGIN:VEVENT
DTSTART;TZID="Europe/Rome":20231017T080000
DTEND;TZID="Europe/Rome":20231017T140000
DTSTAMP:20260425T031442
CREATED:20231012T090140Z
LAST-MODIFIED:20231012T090140Z
UID:14866-1697529600-1697551200@www.belluzzifioravanti.it
SUMMARY:Museo internazionale e biblioteca della musica
DESCRIPTION:La classe 3CFA si reca presso il Museo internazionale e biblioteca della musica di Bologna\, Strada Maggiore 34 Bologna.\nDocenti accompagnatori: proff. Scamperti  Costantino e Graziano  Santo\n
URL:https://www.belluzzifioravanti.it/event/museo-internazionale-e-biblioteca-della-musica/
END:VEVENT
END:VCALENDAR