BEGIN:VCALENDAR
VERSION:2.0
PRODID:-//IIS O. Belluzzi – Fioravanti - ECPv4.9.4//NONSGML v1.0//EN
CALSCALE:GREGORIAN
METHOD:PUBLISH
X-WR-CALNAME:IIS O. Belluzzi – Fioravanti
X-ORIGINAL-URL:https://www.belluzzifioravanti.it
X-WR-CALDESC:Eventi per IIS O. Belluzzi – Fioravanti
BEGIN:VTIMEZONE
TZID:"Europe/Rome"
BEGIN:DAYLIGHT
TZOFFSETFROM:+0100
TZOFFSETTO:+0200
TZNAME:CEST
DTSTART:20230326T010000
END:DAYLIGHT
BEGIN:STANDARD
TZOFFSETFROM:+0200
TZOFFSETTO:+0100
TZNAME:CET
DTSTART:20231029T010000
END:STANDARD
END:VTIMEZONE
BEGIN:VEVENT
DTSTART;TZID="Europe/Rome":20231013T093000
DTEND;TZID="Europe/Rome":20231013T123000
DTSTAMP:20260425T025155
CREATED:20231006T111146Z
LAST-MODIFIED:20231006T111146Z
UID:14837-1697189400-1697200200@www.belluzzifioravanti.it
SUMMARY:Museo del patrimonio industriale
DESCRIPTION:La classe 5Ci si reca al Museo del patrimonio industriale per una visita guidata sulla seconda rivoluzione industriale + Fabbrica del futuro \nDocenti Accompagnatori: Prof. Giampiccolo\, Cotti \n
URL:https://www.belluzzifioravanti.it/event/museo-del-patrimonio-industriale-22/
END:VEVENT
END:VCALENDAR