BEGIN:VCALENDAR
VERSION:2.0
PRODID:-//IIS O. Belluzzi – Fioravanti - ECPv4.9.4//NONSGML v1.0//EN
CALSCALE:GREGORIAN
METHOD:PUBLISH
X-WR-CALNAME:IIS O. Belluzzi – Fioravanti
X-ORIGINAL-URL:https://www.belluzzifioravanti.it
X-WR-CALDESC:Eventi per IIS O. Belluzzi – Fioravanti
BEGIN:VTIMEZONE
TZID:"Europe/Rome"
BEGIN:DAYLIGHT
TZOFFSETFROM:+0100
TZOFFSETTO:+0200
TZNAME:CEST
DTSTART:20220327T010000
END:DAYLIGHT
BEGIN:STANDARD
TZOFFSETFROM:+0200
TZOFFSETTO:+0100
TZNAME:CET
DTSTART:20221030T010000
END:STANDARD
END:VTIMEZONE
BEGIN:VEVENT
DTSTART;TZID="Europe/Rome":20221125T090000
DTEND;TZID="Europe/Rome":20221125T130000
DTSTAMP:20260425T233537
CREATED:20221111T124737Z
LAST-MODIFIED:20221111T130042Z
UID:13126-1669366800-1669381200@www.belluzzifioravanti.it
SUMMARY:Museo del Patrimonio Industriale
DESCRIPTION:La classe 5 Ael  si reca presso il Museo del Patrimonio Industriale per partecipare ad un laboratorio sull'Energia e per la visita generale con guida.\nGli studenti si recheranno in autonomia al museo per le ore 9:00 e saranno liberi al termine delle attività.\nDocenti accompagnatori: prof. Mariangela Molè\, Daniele Vegetti\n
URL:https://www.belluzzifioravanti.it/event/museo-del-patrimonio-industriale-18/
END:VEVENT
END:VCALENDAR