BEGIN:VCALENDAR
VERSION:2.0
PRODID:-//IIS O. Belluzzi – Fioravanti - ECPv4.9.4//NONSGML v1.0//EN
CALSCALE:GREGORIAN
METHOD:PUBLISH
X-WR-CALNAME:IIS O. Belluzzi – Fioravanti
X-ORIGINAL-URL:https://www.belluzzifioravanti.it
X-WR-CALDESC:Eventi per IIS O. Belluzzi – Fioravanti
BEGIN:VTIMEZONE
TZID:"Europe/Rome"
BEGIN:DAYLIGHT
TZOFFSETFROM:+0100
TZOFFSETTO:+0200
TZNAME:CEST
DTSTART:20220327T010000
END:DAYLIGHT
BEGIN:STANDARD
TZOFFSETFROM:+0200
TZOFFSETTO:+0100
TZNAME:CET
DTSTART:20221030T010000
END:STANDARD
END:VTIMEZONE
BEGIN:VEVENT
DTSTART;TZID="Europe/Rome":20221215T090000
DTEND;TZID="Europe/Rome":20221215T130000
DTSTAMP:20260425T213145
CREATED:20221209T102006Z
LAST-MODIFIED:20221209T102006Z
UID:13371-1671094800-1671109200@www.belluzzifioravanti.it
SUMMARY:Museo Civico Medievale
DESCRIPTION:La classe 3Bi viene presa in carico dai Docenti accompagnatori all’ingresso del Museo Civico Medievale di Bologna\, in via Manzoni 4\, per visitare il Museo civico di storia medievale e visitare brevemente le emergenze architettoniche nei pressi di Piazza Maggiore\, e verrà poi lasciata all’uscita del Museo Civico al temine dall’attività. \n\nDOCENTI ACCOMPAGNATORI: Prof. Andrea TRAPANI e Salvatore MARTELLO \n\n\n\n\n
URL:https://www.belluzzifioravanti.it/event/museo-civico-medievale-6/
END:VEVENT
END:VCALENDAR