BEGIN:VCALENDAR
VERSION:2.0
PRODID:-//IIS O. Belluzzi – Fioravanti - ECPv4.9.4//NONSGML v1.0//EN
CALSCALE:GREGORIAN
METHOD:PUBLISH
X-WR-CALNAME:IIS O. Belluzzi – Fioravanti
X-ORIGINAL-URL:https://www.belluzzifioravanti.it
X-WR-CALDESC:Eventi per IIS O. Belluzzi – Fioravanti
BEGIN:VTIMEZONE
TZID:"Europe/Rome"
BEGIN:DAYLIGHT
TZOFFSETFROM:+0100
TZOFFSETTO:+0200
TZNAME:CEST
DTSTART:20220327T010000
END:DAYLIGHT
BEGIN:STANDARD
TZOFFSETFROM:+0200
TZOFFSETTO:+0100
TZNAME:CET
DTSTART:20221030T010000
END:STANDARD
END:VTIMEZONE
BEGIN:VEVENT
DTSTART;TZID="Europe/Rome":20221121T080000
DTEND;TZID="Europe/Rome":20221121T140000
DTSTAMP:20260426T013541
CREATED:20221114T122348Z
LAST-MODIFIED:20221114T122348Z
UID:13139-1669017600-1669039200@www.belluzzifioravanti.it
SUMMARY:Museo Civico Archeologico e Archiginnasio
DESCRIPTION:La Classe 5BFD si reca al Museo Civico Archeologico e all’Archiginnasio in P.zza Galvani 1 – 40124 Bologna\, \nper un’uscita didattica\nDocenti accompagnatori : Prof. Scamperti Costantino e Graziano Santo\n
URL:https://www.belluzzifioravanti.it/event/museo-civico-archeologico-e-archiginnasio/
END:VEVENT
END:VCALENDAR