BEGIN:VCALENDAR
VERSION:2.0
PRODID:-//IIS O. Belluzzi – Fioravanti - ECPv4.9.4//NONSGML v1.0//EN
CALSCALE:GREGORIAN
METHOD:PUBLISH
X-WR-CALNAME:IIS O. Belluzzi – Fioravanti
X-ORIGINAL-URL:https://www.belluzzifioravanti.it
X-WR-CALDESC:Eventi per IIS O. Belluzzi – Fioravanti
BEGIN:VTIMEZONE
TZID:"Europe/Rome"
BEGIN:DAYLIGHT
TZOFFSETFROM:+0100
TZOFFSETTO:+0200
TZNAME:CEST
DTSTART:20230326T010000
END:DAYLIGHT
BEGIN:STANDARD
TZOFFSETFROM:+0200
TZOFFSETTO:+0100
TZNAME:CET
DTSTART:20231029T010000
END:STANDARD
END:VTIMEZONE
BEGIN:VEVENT
DTSTART;TZID="Europe/Rome":20230324T090000
DTEND;TZID="Europe/Rome":20230324T120000
DTSTAMP:20260425T155722
CREATED:20230324T090827Z
LAST-MODIFIED:20230324T090827Z
UID:13976-1679648400-1679659200@www.belluzzifioravanti.it
SUMMARY:Museo Archeologico di Bologna
DESCRIPTION:La classe 1EI si reca al Museo Archeologico di Bologna per una visita guidata.\nGli alunni si recheranno autonomamente alle ore 9:00 in piazza Nettuno\, seguirà visita al Museo\, visita in piazza Galvani\, Visita in San Petronio.\nDocenti accompagnatori: prof.ssa Benedetta Del Secco\, prof.ssa Gabriella Rondinelli. \n
URL:https://www.belluzzifioravanti.it/event/museo-archeologico-di-bologna-3/
END:VEVENT
END:VCALENDAR