BEGIN:VCALENDAR
VERSION:2.0
PRODID:-//IIS O. Belluzzi – Fioravanti - ECPv4.9.4//NONSGML v1.0//EN
CALSCALE:GREGORIAN
METHOD:PUBLISH
X-WR-CALNAME:IIS O. Belluzzi – Fioravanti
X-ORIGINAL-URL:https://www.belluzzifioravanti.it
X-WR-CALDESC:Eventi per IIS O. Belluzzi – Fioravanti
BEGIN:VTIMEZONE
TZID:"Europe/Rome"
BEGIN:DAYLIGHT
TZOFFSETFROM:+0100
TZOFFSETTO:+0200
TZNAME:CEST
DTSTART:20230326T010000
END:DAYLIGHT
BEGIN:STANDARD
TZOFFSETFROM:+0200
TZOFFSETTO:+0100
TZNAME:CET
DTSTART:20231029T010000
END:STANDARD
END:VTIMEZONE
BEGIN:VEVENT
DTSTART;TZID="Europe/Rome":20230303T080000
DTEND;TZID="Europe/Rome":20230303T080000
DTSTAMP:20260425T154229
CREATED:20230220T085801Z
LAST-MODIFIED:20230220T085801Z
UID:13733-1677830400-1677830400@www.belluzzifioravanti.it
SUMMARY:Museo Archeologico di Bologna
DESCRIPTION:La classe 1EM si reca presso il Museo Archeologico di Bologna per una visita guidata alla collezione greca ed etrusca\, seguita da un laboratorio di storytelling gestito dagli operatori del museo stesso.\nDocenti accompagnatori: prof.ssa Claudia Caserini\, prof. Giovanni Zanotti. \n
URL:https://www.belluzzifioravanti.it/event/museo-archeologico-di-bologna-2/
END:VEVENT
END:VCALENDAR