BEGIN:VCALENDAR
VERSION:2.0
PRODID:-//IIS O. Belluzzi – Fioravanti - ECPv4.9.4//NONSGML v1.0//EN
CALSCALE:GREGORIAN
METHOD:PUBLISH
X-WR-CALNAME:IIS O. Belluzzi – Fioravanti
X-ORIGINAL-URL:https://www.belluzzifioravanti.it
X-WR-CALDESC:Eventi per IIS O. Belluzzi – Fioravanti
BEGIN:VTIMEZONE
TZID:"Europe/Rome"
BEGIN:DAYLIGHT
TZOFFSETFROM:+0100
TZOFFSETTO:+0200
TZNAME:CEST
DTSTART:20230326T010000
END:DAYLIGHT
BEGIN:STANDARD
TZOFFSETFROM:+0200
TZOFFSETTO:+0100
TZNAME:CET
DTSTART:20231029T010000
END:STANDARD
END:VTIMEZONE
BEGIN:VEVENT
DTSTART;TZID="Europe/Rome":20231103T080000
DTEND;TZID="Europe/Rome":20231103T140000
DTSTAMP:20260425T025143
CREATED:20231026T091339Z
LAST-MODIFIED:20231026T091339Z
UID:14926-1698998400-1699020000@www.belluzzifioravanti.it
SUMMARY:mostra fotografica MAST
DESCRIPTION: La classe 3AEL si reca in Visita alla mostra fotografica + laboratorio fotografico presso la Fondazione MAST\, via Speranza 42\, Bologna.\nIncontro presso la sede del MAST alle ore 9:30.\nDocenti accompagnatori: Prof. Pizzuti\, Pilia\n
URL:https://www.belluzzifioravanti.it/event/mostra-fotografica-mast/
END:VEVENT
END:VCALENDAR