BEGIN:VCALENDAR
VERSION:2.0
PRODID:-//IIS O. Belluzzi – Fioravanti - ECPv4.9.4//NONSGML v1.0//EN
CALSCALE:GREGORIAN
METHOD:PUBLISH
X-WR-CALNAME:IIS O. Belluzzi – Fioravanti
X-ORIGINAL-URL:https://www.belluzzifioravanti.it
X-WR-CALDESC:Eventi per IIS O. Belluzzi – Fioravanti
BEGIN:VTIMEZONE
TZID:"Europe/Rome"
BEGIN:DAYLIGHT
TZOFFSETFROM:+0100
TZOFFSETTO:+0200
TZNAME:CEST
DTSTART:20230326T010000
END:DAYLIGHT
BEGIN:STANDARD
TZOFFSETFROM:+0200
TZOFFSETTO:+0100
TZNAME:CET
DTSTART:20231029T010000
END:STANDARD
END:VTIMEZONE
BEGIN:VEVENT
DTSTART;TZID="Europe/Rome":20231028T090000
DTEND;TZID="Europe/Rome":20231028T130000
DTSTAMP:20260425T022732
CREATED:20231017T084511Z
LAST-MODIFIED:20231020T103115Z
UID:14883-1698483600-1698498000@www.belluzzifioravanti.it
SUMMARY:Linux day
DESCRIPTION:Le classi 5Ai\, 5Bi si recano presso il Liceo Copernico alle ore 09:00 in autonomia per partecipare al  Linux Day . Alla fine dell’attività gli studenti si\nrecheranno autonomamente alle loro abitazioni. \nDocenti accompagnatori: Prof. Ciccolone\, Piasentin\, Martello\, Di Stanislao \n
URL:https://www.belluzzifioravanti.it/event/linux-day-3/
END:VEVENT
END:VCALENDAR