BEGIN:VCALENDAR
VERSION:2.0
PRODID:-//IIS O. Belluzzi – Fioravanti - ECPv4.9.4//NONSGML v1.0//EN
CALSCALE:GREGORIAN
METHOD:PUBLISH
X-WR-CALNAME:IIS O. Belluzzi – Fioravanti
X-ORIGINAL-URL:https://www.belluzzifioravanti.it
X-WR-CALDESC:Eventi per IIS O. Belluzzi – Fioravanti
BEGIN:VTIMEZONE
TZID:"Europe/Rome"
BEGIN:DAYLIGHT
TZOFFSETFROM:+0100
TZOFFSETTO:+0200
TZNAME:CEST
DTSTART:20220327T010000
END:DAYLIGHT
BEGIN:STANDARD
TZOFFSETFROM:+0200
TZOFFSETTO:+0100
TZNAME:CET
DTSTART:20221030T010000
END:STANDARD
END:VTIMEZONE
BEGIN:VEVENT
DTSTART;TZID="Europe/Rome":20221022T080000
DTEND;TZID="Europe/Rome":20221022T130000
DTSTAMP:20260426T025227
CREATED:20221014T093143Z
LAST-MODIFIED:20221015T094439Z
UID:12896-1666425600-1666443600@www.belluzzifioravanti.it
SUMMARY:Linux Day 2022
DESCRIPTION:Le classi 5Bi e 5Ai si recano presso il Liceo Copernico di Bologna per partecipare al Linux Day 2022\, convegno sul software libero.\nDOCENTE/I ACCOMPAGNATORE/I: Prof. Salvatore Martello\, Alessandro Di Stanislao\, Antonio Costantini\n\n
URL:https://www.belluzzifioravanti.it/event/linux-day-2022/
END:VEVENT
END:VCALENDAR