BEGIN:VCALENDAR
VERSION:2.0
PRODID:-//IIS O. Belluzzi – Fioravanti - ECPv4.9.4//NONSGML v1.0//EN
CALSCALE:GREGORIAN
METHOD:PUBLISH
X-WR-CALNAME:IIS O. Belluzzi – Fioravanti
X-ORIGINAL-URL:https://www.belluzzifioravanti.it
X-WR-CALDESC:Eventi per IIS O. Belluzzi – Fioravanti
BEGIN:VTIMEZONE
TZID:"Europe/Rome"
BEGIN:DAYLIGHT
TZOFFSETFROM:+0100
TZOFFSETTO:+0200
TZNAME:CEST
DTSTART:20230326T010000
END:DAYLIGHT
BEGIN:STANDARD
TZOFFSETFROM:+0200
TZOFFSETTO:+0100
TZNAME:CET
DTSTART:20231029T010000
END:STANDARD
END:VTIMEZONE
BEGIN:VEVENT
DTSTART;TZID="Europe/Rome":20231031T080000
DTEND;TZID="Europe/Rome":20231031T140000
DTSTAMP:20260425T011708
CREATED:20231017T084203Z
LAST-MODIFIED:20231017T084203Z
UID:14881-1698739200-1698760800@www.belluzzifioravanti.it
SUMMARY:Io\, capitano
DESCRIPTION:La classe 5Ael si reca al cinema Bellinzona per la visione del film Io\, capitano. \nDocenti accompagnatori: Prof. Di Silverio\, Pizzuti \n
URL:https://www.belluzzifioravanti.it/event/io-capitano-4/
END:VEVENT
END:VCALENDAR