BEGIN:VCALENDAR
VERSION:2.0
PRODID:-//IIS O. Belluzzi – Fioravanti - ECPv4.9.4//NONSGML v1.0//EN
CALSCALE:GREGORIAN
METHOD:PUBLISH
X-WR-CALNAME:IIS O. Belluzzi – Fioravanti
X-ORIGINAL-URL:https://www.belluzzifioravanti.it
X-WR-CALDESC:Eventi per IIS O. Belluzzi – Fioravanti
BEGIN:VTIMEZONE
TZID:"Europe/Rome"
BEGIN:DAYLIGHT
TZOFFSETFROM:+0100
TZOFFSETTO:+0200
TZNAME:CEST
DTSTART:20220327T010000
END:DAYLIGHT
BEGIN:STANDARD
TZOFFSETFROM:+0200
TZOFFSETTO:+0100
TZNAME:CET
DTSTART:20221030T010000
END:STANDARD
END:VTIMEZONE
BEGIN:VEVENT
DTSTART;TZID="Europe/Rome":20220930T090000
DTEND;TZID="Europe/Rome":20220930T133000
DTSTAMP:20260426T011259
CREATED:20220926T104411Z
LAST-MODIFIED:20220926T104411Z
UID:12760-1664528400-1664544600@www.belluzzifioravanti.it
SUMMARY:il Capitale
DESCRIPTION:La classe 3 afe si reca presso l'Arena del Sole per assistere alle prove generali dello spettacolo "il Capitale"\n\nDocenti accompagnatori: Prof. Zanotti Giovanni\, Donattini Caterina\n
URL:https://www.belluzzifioravanti.it/event/il-capitale/
END:VEVENT
END:VCALENDAR