BEGIN:VCALENDAR
VERSION:2.0
PRODID:-//IIS O. Belluzzi – Fioravanti - ECPv4.9.4//NONSGML v1.0//EN
CALSCALE:GREGORIAN
METHOD:PUBLISH
X-WR-CALNAME:IIS O. Belluzzi – Fioravanti
X-ORIGINAL-URL:https://www.belluzzifioravanti.it
X-WR-CALDESC:Eventi per IIS O. Belluzzi – Fioravanti
BEGIN:VTIMEZONE
TZID:"Europe/Rome"
BEGIN:DAYLIGHT
TZOFFSETFROM:+0100
TZOFFSETTO:+0200
TZNAME:CEST
DTSTART:20230326T010000
END:DAYLIGHT
BEGIN:STANDARD
TZOFFSETFROM:+0200
TZOFFSETTO:+0100
TZNAME:CET
DTSTART:20231029T010000
END:STANDARD
END:VTIMEZONE
BEGIN:VEVENT
DTSTART;TZID="Europe/Rome":20230124T100000
DTEND;TZID="Europe/Rome":20230124T140000
DTSTAMP:20260425T212647
CREATED:20230117T095336Z
LAST-MODIFIED:20230117T095336Z
UID:13551-1674554400-1674568800@www.belluzzifioravanti.it
SUMMARY:Green book
DESCRIPTION:Le CLASSI 4Bi e 5Bi si recano alla biblioteca comunale di Casalecchio di Reno per partecipare alla visione del film “Green book”\, regia di Peter Farrelly (2018)\nDOCENTI ACCOMPAGNATORI: Prof.sa Valeria Braidi\, prof.sa Maria Paola Valzania\, educatore Marco Salvioli \n
URL:https://www.belluzzifioravanti.it/event/green-book-3/
END:VEVENT
END:VCALENDAR