BEGIN:VCALENDAR
VERSION:2.0
PRODID:-//IIS O. Belluzzi – Fioravanti - ECPv4.9.4//NONSGML v1.0//EN
CALSCALE:GREGORIAN
METHOD:PUBLISH
X-WR-CALNAME:IIS O. Belluzzi – Fioravanti
X-ORIGINAL-URL:https://www.belluzzifioravanti.it
X-WR-CALDESC:Eventi per IIS O. Belluzzi – Fioravanti
BEGIN:VTIMEZONE
TZID:"Europe/Rome"
BEGIN:DAYLIGHT
TZOFFSETFROM:+0100
TZOFFSETTO:+0200
TZNAME:CEST
DTSTART:20230326T010000
END:DAYLIGHT
BEGIN:STANDARD
TZOFFSETFROM:+0200
TZOFFSETTO:+0100
TZNAME:CET
DTSTART:20231029T010000
END:STANDARD
END:VTIMEZONE
BEGIN:VEVENT
DTSTART;TZID="Europe/Rome":20230210T090000
DTEND;TZID="Europe/Rome":20230210T130000
DTSTAMP:20260425T175057
CREATED:20230128T102549Z
LAST-MODIFIED:20230128T102549Z
UID:13607-1676019600-1676034000@www.belluzzifioravanti.it
SUMMARY:Giochiamo con Arduino! 
DESCRIPTION:La CLASSE 2 AFE si reca al Malpighi LAB per una lezione sulle potenzialità della scheda elettronica Arduino. Gli studenti affronteranno concetti base della programmazione. \nDocenti accompagnatori: prof.sse Manuela Ritte\, Immacolata Buglione\, Daniela Maione. \n
URL:https://www.belluzzifioravanti.it/event/giochiamo-con-arduino/
END:VEVENT
END:VCALENDAR