BEGIN:VCALENDAR
VERSION:2.0
PRODID:-//IIS O. Belluzzi – Fioravanti - ECPv4.9.4//NONSGML v1.0//EN
CALSCALE:GREGORIAN
METHOD:PUBLISH
X-WR-CALNAME:IIS O. Belluzzi – Fioravanti
X-ORIGINAL-URL:https://www.belluzzifioravanti.it
X-WR-CALDESC:Eventi per IIS O. Belluzzi – Fioravanti
BEGIN:VTIMEZONE
TZID:"Europe/Rome"
BEGIN:DAYLIGHT
TZOFFSETFROM:+0100
TZOFFSETTO:+0200
TZNAME:CEST
DTSTART:20220327T010000
END:DAYLIGHT
BEGIN:STANDARD
TZOFFSETFROM:+0200
TZOFFSETTO:+0100
TZNAME:CET
DTSTART:20221030T010000
END:STANDARD
END:VTIMEZONE
BEGIN:VEVENT
DTSTART;TZID="Europe/Rome":20221111T080000
DTEND;TZID="Europe/Rome":20221111T140000
DTSTAMP:20260426T012015
CREATED:20221105T101927Z
LAST-MODIFIED:20221105T101927Z
UID:13093-1668153600-1668175200@www.belluzzifioravanti.it
SUMMARY:Eicma Fiera di Milano
DESCRIPTION:Le classi 4Bm\, 4Dm\, 5Am\, 5Bm\, 5Dm\, si recano presso Eicma Fiera di Milano.\n\nDocenti accompagnatori: Prof. Alberto Cavaciuti (5Bm)\, Alfonso Lioce (5Am)\, Anthony Viola (5Dm)\, Antonio Caratù (4Dm)\, Letizia Pontillo (4Bm).\n
URL:https://www.belluzzifioravanti.it/event/eicma-fiera-di-milano/
END:VEVENT
END:VCALENDAR