BEGIN:VCALENDAR
VERSION:2.0
PRODID:-//IIS O. Belluzzi – Fioravanti - ECPv4.9.4//NONSGML v1.0//EN
CALSCALE:GREGORIAN
METHOD:PUBLISH
X-WR-CALNAME:IIS O. Belluzzi – Fioravanti
X-ORIGINAL-URL:https://www.belluzzifioravanti.it
X-WR-CALDESC:Eventi per IIS O. Belluzzi – Fioravanti
BEGIN:VTIMEZONE
TZID:"Europe/Rome"
BEGIN:DAYLIGHT
TZOFFSETFROM:+0100
TZOFFSETTO:+0200
TZNAME:CEST
DTSTART:20220327T010000
END:DAYLIGHT
BEGIN:STANDARD
TZOFFSETFROM:+0200
TZOFFSETTO:+0100
TZNAME:CET
DTSTART:20221030T010000
END:STANDARD
END:VTIMEZONE
BEGIN:VEVENT
DTSTART;TZID="Europe/Rome":20221027T080000
DTEND;TZID="Europe/Rome":20221027T140000
DTSTAMP:20260426T032657
CREATED:20221020T082131Z
LAST-MODIFIED:20221020T082131Z
UID:12961-1666857600-1666879200@www.belluzzifioravanti.it
SUMMARY:Dante- di Pupi Avati
DESCRIPTION:Le classi 3Ci\, 3Cm\, 4Ael e 5Ael si recano presso la multisala ODEON di via Mascarella 3 per  assistere alla proiezione del film DANTE (regia di Pupi Avati) \nDocenti accompagnatori: Prof. Avanzolini\, Modaferri\, Meliconi\, Pontillo\, Di Silverio\, Travaglini \n\n
URL:https://www.belluzzifioravanti.it/event/dante-di-pupi-avati/
END:VEVENT
END:VCALENDAR