BEGIN:VCALENDAR
VERSION:2.0
PRODID:-//IIS O. Belluzzi – Fioravanti - ECPv4.9.4//NONSGML v1.0//EN
CALSCALE:GREGORIAN
METHOD:PUBLISH
X-WR-CALNAME:IIS O. Belluzzi – Fioravanti
X-ORIGINAL-URL:https://www.belluzzifioravanti.it
X-WR-CALDESC:Eventi per IIS O. Belluzzi – Fioravanti
BEGIN:VTIMEZONE
TZID:"Europe/Rome"
BEGIN:DAYLIGHT
TZOFFSETFROM:+0100
TZOFFSETTO:+0200
TZNAME:CEST
DTSTART:20230326T010000
END:DAYLIGHT
BEGIN:STANDARD
TZOFFSETFROM:+0200
TZOFFSETTO:+0100
TZNAME:CET
DTSTART:20231029T010000
END:STANDARD
END:VTIMEZONE
BEGIN:VEVENT
DTSTART;TZID="Europe/Rome":20230117T170000
DTEND;TZID="Europe/Rome":20230117T190000
DTSTAMP:20260425T212701
CREATED:20230114T084821Z
LAST-MODIFIED:20230114T084821Z
UID:13521-1673974800-1673982000@www.belluzzifioravanti.it
SUMMARY:Cyber Challenge
DESCRIPTION:La classe 5Bi si reca al pomeriggio alla facoltà di ingegneria (viale Risorgimento 2) per la presentazione della Cyber Challenge \nDocente accompagnatore: Prof. Di Stanislao \n
URL:https://www.belluzzifioravanti.it/event/cyber-challenge/
END:VEVENT
END:VCALENDAR